BEGIN:VCALENDAR
VERSION:2.0
PRODID:spatie/icalendar-generator
DESCRIPTION:Events from Greater Salem Contractors Association
X-WR-CALDESC:Events from Greater Salem Contractors Association
REFRESH-INTERVAL;VALUE=DURATION:PT1440M
X-PUBLISHED-TTL:PT1440M
BEGIN:VTIMEZONE
TZID:Etc/GMT+0
BEGIN:STANDARD
DTSTART:20240216T130000Z
TZOFFSETFROM:+0000
TZOFFSETTO:+0000
END:STANDARD
END:VTIMEZONE
BEGIN:VTIMEZONE
TZID:UTC
BEGIN:STANDARD
DTSTART:20250723T150410Z
TZOFFSETFROM:+0000
TZOFFSETTO:+0000
END:STANDARD
END:VTIMEZONE
BEGIN:VEVENT
UID:38-34
DTSTAMP:20260419T150410Z
SUMMARY:Member Event: HR Metrics - What Is It\, What Do I Do\, How Do I Do 
 It? by BlueLion
LOCATION:
ORGANIZER;CN=GSCA Admin:MAILTO:admin@gscanh.org
DTSTART;TZID=Etc/GMT+0:20241112T130000
DTEND;TZID=Etc/GMT+0:20241112T140000
X-ALT-DESC;FMTTYPE=TEXT/HTML:Register
CATEGORIES:General
URL;VALUE=URI:https://gscanh.org/mc-events/member-event-hr-metrics-what-is-
 it-what-do-i-do-how-do-i-do-it-by-bluelion/
METHOD:PUBLISH
END:VEVENT
END:VCALENDAR