BEGIN:VCALENDAR
VERSION:2.0
PRODID:spatie/icalendar-generator
DESCRIPTION:Events from Greater Salem Contractors Association
X-WR-CALDESC:Events from Greater Salem Contractors Association
REFRESH-INTERVAL;VALUE=DURATION:PT1440M
X-PUBLISHED-TTL:PT1440M
BEGIN:VTIMEZONE
TZID:Etc/GMT+0
BEGIN:STANDARD
DTSTART:20240128T170000Z
TZOFFSETFROM:+0000
TZOFFSETTO:+0000
END:STANDARD
END:VTIMEZONE
BEGIN:VTIMEZONE
TZID:UTC
BEGIN:STANDARD
DTSTART:20250723T181153Z
TZOFFSETFROM:+0000
TZOFFSETTO:+0000
END:STANDARD
END:VTIMEZONE
BEGIN:VEVENT
UID:51-45
DTSTAMP:20260419T181153Z
SUMMARY:Member Event:  2024 Annual Dinner &amp;amp\; Awards Ceremony: Red Carpe
 t Gala!- The Greater Derry Londonderry Chamber of Commerce
LOCATION:Tupelo Music Hall 10 A St\,  Derry NH 03038
ORGANIZER;CN=GSCA Admin:MAILTO:admin@gscanh.org
DTSTART;TZID=Etc/GMT+0:20241024T170000
DTEND;TZID=Etc/GMT+0:20241024T203000
X-ALT-DESC;FMTTYPE=TEXT/HTML:Register
CATEGORIES:General
URL;VALUE=URI:https://gscanh.org/mc-events/member-event-2024-annual-dinner-
 awards-ceremony-red-carpet-gala-the-greater-derry-londonderry-chamber-of-c
 ommerce/
METHOD:PUBLISH
END:VEVENT
END:VCALENDAR